BEGIN:VCALENDAR
VERSION:2.0
PRODID:-//Zentrum für geistiges Eigentum - ECPv4.2.7//NONSGML v1.0//EN
CALSCALE:GREGORIAN
METHOD:PUBLISH
X-WR-CALNAME:Zentrum für geistiges Eigentum
X-ORIGINAL-URL:https://www.zfge.tu-berlin.de
X-WR-CALDESC:Events for Zentrum für geistiges Eigentum
BEGIN:VEVENT
DTSTART;TZID=Europe/Berlin:20180615T093000
DTEND;TZID=Europe/Berlin:20180615T143000
DTSTAMP:20260420T214002
CREATED:20180611T191900
LAST-MODIFIED:20180613T084003
UID:3995-1529055000-1529073000@www.zfge.tu-berlin.de
SUMMARY:Wissenschaftliche Ergebnisse effektiv verwerten: Grundlagen des Technologie- und Wissenstransfers
DESCRIPTION:Workshop des ZEWK der TU Berlin:\n\n"Wissenschaftliche Ergebnisse effektiv verwerten: Grundlagen des Technologie- und Wissenstransfers".\n\n!!Diese Veranstaltung fällt leider aus!!\n\nMehrInfos 
URL:https://www.zfge.tu-berlin.de/veranstaltung/wissenschaftliche-ergebnisse-effektiv-verwerten-grundlagen-des-technologie-und-wissenstransfers/
CATEGORIES:CfE
END:VEVENT
END:VCALENDAR