BEGIN:VCALENDAR
VERSION:2.0
PRODID:-//Zentrum für geistiges Eigentum - ECPv4.2.7//NONSGML v1.0//EN
CALSCALE:GREGORIAN
METHOD:PUBLISH
X-WR-CALNAME:Zentrum für geistiges Eigentum
X-ORIGINAL-URL:https://www.zfge.tu-berlin.de
X-WR-CALDESC:Events for Zentrum für geistiges Eigentum
BEGIN:VEVENT
DTSTART;VALUE=DATE:20151130
DTEND;VALUE=DATE:20151130
DTSTAMP:20260424T050110
CREATED:20181224
LAST-MODIFIED:20181224
UID:5004-1448841600-1448927999@www.zfge.tu-berlin.de
SUMMARY:Von der Idee zur Verwertung - Kooperations-\, Lizenz- und Kaufverträge
DESCRIPTION:
URL:https://www.zfge.tu-berlin.de/veranstaltung/von-der-idee-zur-verwertung-kooperations-lizenz-und-kaufvertraege/
CATEGORIES:CfE
END:VEVENT
END:VCALENDAR