BEGIN:VCALENDAR
VERSION:2.0
PRODID:-//Zentrum für geistiges Eigentum - ECPv4.2.7//NONSGML v1.0//EN
CALSCALE:GREGORIAN
METHOD:PUBLISH
X-WR-CALNAME:Zentrum für geistiges Eigentum
X-ORIGINAL-URL:https://www.zfge.tu-berlin.de
X-WR-CALDESC:Events for Zentrum für geistiges Eigentum
BEGIN:VEVENT
DTSTART;TZID=Europe/Berlin:20151126T130000
DTEND;TZID=Europe/Berlin:20151126T160000
DTSTAMP:20260424T045629
CREATED:20181224T192011
LAST-MODIFIED:20181224T192011
UID:5008-1448542800-1448553600@www.zfge.tu-berlin.de
SUMMARY:Usability
DESCRIPTION:
URL:https://www.zfge.tu-berlin.de/veranstaltung/usability/
CATEGORIES:CfE
END:VEVENT
END:VCALENDAR