BEGIN:VCALENDAR
VERSION:2.0
PRODID:-//Zentrum für geistiges Eigentum - ECPv4.2.7//NONSGML v1.0//EN
CALSCALE:GREGORIAN
METHOD:PUBLISH
X-WR-CALNAME:Zentrum für geistiges Eigentum
X-ORIGINAL-URL:https://www.zfge.tu-berlin.de
X-WR-CALDESC:Events for Zentrum für geistiges Eigentum
BEGIN:VEVENT
DTSTART;TZID=Europe/Berlin:20160426T160000
DTEND;TZID=Europe/Berlin:20160426T190000
DTSTAMP:20260424T033039
CREATED:20181224T192006
LAST-MODIFIED:20181224T192006
UID:4961-1461686400-1461697200@www.zfge.tu-berlin.de
SUMMARY:TU Berlin Investors Club
DESCRIPTION:Im Rahmen des TU Berlin Investors Clubs präsentieren wir mehrmals im Jahr 4-5 Top TU Start-ups einem absolut erlesenen Kreis von Angel Investoren\, die sich für Technologie Start-ups begeistern. Diese Seed-Investoren investieren üblicherweise Einzeltickets zwischen 50 und 150k €.\nKontakt: florian.uhlig@tu-berlin.de
URL:https://www.zfge.tu-berlin.de/veranstaltung/tu-berlin-investors-club/
CATEGORIES:CfE
END:VEVENT
END:VCALENDAR