BEGIN:VCALENDAR
VERSION:2.0
PRODID:-//Zentrum für geistiges Eigentum - ECPv4.2.7//NONSGML v1.0//EN
CALSCALE:GREGORIAN
METHOD:PUBLISH
X-WR-CALNAME:Zentrum für geistiges Eigentum
X-ORIGINAL-URL:https://www.zfge.tu-berlin.de
X-WR-CALDESC:Events for Zentrum für geistiges Eigentum
BEGIN:VEVENT
DTSTART;TZID=Europe/Berlin:20240927T090000
DTEND;TZID=Europe/Berlin:20240927T130000
DTSTAMP:20260421T100400
CREATED:20240916T094743
LAST-MODIFIED:20240916T095008
UID:9645-1727427600-1727442000@www.zfge.tu-berlin.de
SUMMARY:Transfer School – Deep Dive: Launching a startup from science
DESCRIPTION:Have you spotted an exciting business opportunity based on your scientific background and are wondering what the next steps to founding a start-up might be?\n\nThis interactive workshop will outline your options\, provide key information and draw attention to potential pitfalls.\n\nFor more information and registration please see: Transfer School – Deep Dive: Launching a startup
URL:https://www.zfge.tu-berlin.de/veranstaltung/transfer-school-deep-dive-launching-a-startup-from-science/
LOCATION:Ernst Reuter Platz 1\, Berlin\, 10587\, Deutschland
CATEGORIES:CfE
END:VEVENT
END:VCALENDAR