BEGIN:VCALENDAR
VERSION:2.0
PRODID:-//Zentrum für geistiges Eigentum - ECPv4.2.7//NONSGML v1.0//EN
CALSCALE:GREGORIAN
METHOD:PUBLISH
X-WR-CALNAME:Zentrum für geistiges Eigentum
X-ORIGINAL-URL:https://www.zfge.tu-berlin.de
X-WR-CALDESC:Events for Zentrum für geistiges Eigentum
BEGIN:VEVENT
DTSTART;TZID=Europe/Berlin:20190125T093000
DTEND;TZID=Europe/Berlin:20190125T140000
DTSTAMP:20260420T120009
CREATED:20181121T192352
LAST-MODIFIED:20181121T192352
UID:4732-1548408600-1548424800@www.zfge.tu-berlin.de
SUMMARY:Technologie-Screening - Was ist "verwertbare" Forschung
DESCRIPTION:Workshopreihe Technologietransfer an der TU Berlin
URL:https://www.zfge.tu-berlin.de/veranstaltung/technologie-screening-was-ist-verwertbare-forschung/
CATEGORIES:CfE
END:VEVENT
END:VCALENDAR