BEGIN:VCALENDAR
VERSION:2.0
PRODID:-//Zentrum für geistiges Eigentum - ECPv4.2.7//NONSGML v1.0//EN
CALSCALE:GREGORIAN
METHOD:PUBLISH
X-WR-CALNAME:Zentrum für geistiges Eigentum
X-ORIGINAL-URL:https://www.zfge.tu-berlin.de
X-WR-CALDESC:Events for Zentrum für geistiges Eigentum
BEGIN:VEVENT
DTSTART;TZID=Europe/Berlin:20170928T090000
DTEND;TZID=Europe/Berlin:20170928T120000
DTSTAMP:20260420T042352
CREATED:20181224T191958
LAST-MODIFIED:20181224T191958
UID:4889-1506589200-1506600000@www.zfge.tu-berlin.de
SUMMARY:StarTUp School : Wie bekomme ich mein Produkt zum Kunden? - Das ABC der Logistik
DESCRIPTION:Workshop Positionierung\n\nWeitere Infomationen und Anmeldung unter: http://www.entrepreneurship.tu-berlin.de/menue/masterprogramme_qualifizierung/workshops/startup_school/
URL:https://www.zfge.tu-berlin.de/veranstaltung/startup-school-wie-bekomme-ich-mein-produkt-zum-kunden-das-abc-der-logistik/
CATEGORIES:CfE
END:VEVENT
END:VCALENDAR