BEGIN:VCALENDAR
VERSION:2.0
PRODID:-//Zentrum für geistiges Eigentum - ECPv4.2.7//NONSGML v1.0//EN
CALSCALE:GREGORIAN
METHOD:PUBLISH
X-WR-CALNAME:Zentrum für geistiges Eigentum
X-ORIGINAL-URL:https://www.zfge.tu-berlin.de
X-WR-CALDESC:Events for Zentrum für geistiges Eigentum
BEGIN:VEVENT
DTSTART;TZID=Europe/Berlin:20160912T083000
DTEND;TZID=Europe/Berlin:20160912T113000
DTSTAMP:20260425T223758
CREATED:20181224T192004
LAST-MODIFIED:20181224T192004
UID:4947-1473669000-1473679800@www.zfge.tu-berlin.de
SUMMARY:StarTUp School: Steuerrecht für Gründer/innen
DESCRIPTION:Mehr Informationen: http://www.entrepreneurship.tu-berlin.de/?142845
URL:https://www.zfge.tu-berlin.de/veranstaltung/startup-school-steuerrecht-fuer-gruender-innen-2/
CATEGORIES:CfE
END:VEVENT
END:VCALENDAR