BEGIN:VCALENDAR
VERSION:2.0
PRODID:-//Zentrum für geistiges Eigentum - ECPv4.2.7//NONSGML v1.0//EN
CALSCALE:GREGORIAN
METHOD:PUBLISH
X-WR-CALNAME:Zentrum für geistiges Eigentum
X-ORIGINAL-URL:https://www.zfge.tu-berlin.de
X-WR-CALDESC:Events for Zentrum für geistiges Eigentum
BEGIN:VEVENT
DTSTART;TZID=Europe/Berlin:20180604T080000
DTEND;TZID=Europe/Berlin:20180604T110000
DTSTAMP:20260419T222030
CREATED:20181224T191957
LAST-MODIFIED:20181224T191957
UID:4879-1528099200-1528110000@www.zfge.tu-berlin.de
SUMMARY:StarTUp School: Patente\, Marktstudien\, Wettbewerberanalysen - Rechercheworkshop für Gründer/innen
DESCRIPTION:Workshop RechercheGründer/innen benötigen verschiedenste Informationen für die Markteinführung erfolgreicher Innovationen. Dazu gehören beispielsweise Patente\, Marktstudien\, Wettbewerberanalysen etc.Trainer: Dr. Franziska Klatt\, TU Berlin\, Marketing & Information Expert PassportWeitereInfomationen und Anmeldung unter: http://www.entrepreneurship.tu-berlin.de/menue/masterprogramme_qualifizierung/workshops/startup_school_verweis/patente_marktstudien_wettbewerberanalysen_rechercheworkshop_fuer_gruenderinnen/
URL:https://www.zfge.tu-berlin.de/veranstaltung/startup-school-patente-marktstudien-wettbewerberanalysen-rechercheworkshop-fuer-gruender-innen/
CATEGORIES:CfE
END:VEVENT
END:VCALENDAR