BEGIN:VCALENDAR
VERSION:2.0
PRODID:-//Zentrum für geistiges Eigentum - ECPv4.2.7//NONSGML v1.0//EN
CALSCALE:GREGORIAN
METHOD:PUBLISH
X-WR-CALNAME:Zentrum für geistiges Eigentum
X-ORIGINAL-URL:https://www.zfge.tu-berlin.de
X-WR-CALDESC:Events for Zentrum für geistiges Eigentum
BEGIN:VEVENT
DTSTART;TZID=Europe/Berlin:20160509T120000
DTEND;TZID=Europe/Berlin:20160509T140000
DTSTAMP:20260423T223702
CREATED:20181224T192008
LAST-MODIFIED:20181224T192008
UID:4980-1462795200-1462802400@www.zfge.tu-berlin.de
SUMMARY:StarTUp School: Investor Readiness (VC-Ansprache/ Beteiligungsverträge)
DESCRIPTION:Teil 1: VC-Ansprache\, Dr. Ansgar Kirchheim\, HTGF\nInformationen zum HTGF\, Investor Readiness eines Start-ups aus der Sicht unterschiedlicher VC\, Zusammenarbeit mit einem VC\nTeil 2: Beteiligungsverträge\, Dr.Ingo Schneider\, Lacore \nAnmeldung: https://events.gruendung.tu-berlin.de/
URL:https://www.zfge.tu-berlin.de/veranstaltung/startup-school-investor-readiness-vc-ansprache-beteiligungsvertraege-4/
CATEGORIES:CfE
END:VEVENT
END:VCALENDAR