BEGIN:VCALENDAR
VERSION:2.0
PRODID:-//Zentrum für geistiges Eigentum - ECPv4.2.7//NONSGML v1.0//EN
CALSCALE:GREGORIAN
METHOD:PUBLISH
X-WR-CALNAME:Zentrum für geistiges Eigentum
X-ORIGINAL-URL:https://www.zfge.tu-berlin.de
X-WR-CALDESC:Events for Zentrum für geistiges Eigentum
BEGIN:VEVENT
DTSTART;TZID=Europe/Berlin:20140926T080000
DTEND;TZID=Europe/Berlin:20140926T144500
DTSTAMP:20260421T084632
CREATED:20181224T192020
LAST-MODIFIED:20181224T192020
UID:5083-1411718400-1411742700@www.zfge.tu-berlin.de
SUMMARY:StarTUp School: Geschäftsideen zu Papier bringen - Grundlagen der Businessplaerstellung
DESCRIPTION:Geschäftsideen zu Papier bringen - Grundlagen der Businessplaerstellung\n\nWeitere Informationen: http://www.entrepreneurship.tu-berlin.de/menue/masterprogramme_qualifizierung/workshops/startup_school/
URL:https://www.zfge.tu-berlin.de/veranstaltung/startup-school-geschaeftsideen-zu-papier-bringen-grundlagen-der-businessplaerstellung/
CATEGORIES:CfE
END:VEVENT
END:VCALENDAR