BEGIN:VCALENDAR
VERSION:2.0
PRODID:-//Zentrum für geistiges Eigentum - ECPv4.2.7//NONSGML v1.0//EN
CALSCALE:GREGORIAN
METHOD:PUBLISH
X-WR-CALNAME:Zentrum für geistiges Eigentum
X-ORIGINAL-URL:https://www.zfge.tu-berlin.de
X-WR-CALDESC:Events for Zentrum für geistiges Eigentum
BEGIN:VEVENT
DTSTART;TZID=Europe/Berlin:20160317T090000
DTEND;TZID=Europe/Berlin:20160317T120000
DTSTAMP:20260420T013015
CREATED:20181224T192007
LAST-MODIFIED:20181224T192007
UID:4974-1458205200-1458216000@www.zfge.tu-berlin.de
SUMMARY:StarTUp School: Arbeitsrecht für Start-ups
DESCRIPTION:Was ist das Ziel Ihres Startups? Ein dynamisches Unternehmen mit einer wachsenden Anzahl von Mitarbeitern? Mit der Einstellung von Mitarbeitern kommt aber auch das „geballte“ Arbeitsrecht auf Gründer zu. Das Arbeitsrecht ist in Deutschland von einer Vielzahl unterschiedlicher Gesetze geprägt. Es ist daher für jeden Unternehmensgründer wichtig\, sich einen Überblick über die wichtigsten arbeitsrechtlichen Regelungen zu verschaffen. Der Workshop soll diesen Überblick vermitteln. Geplant ist keine „Hetzjagd durch den Paragrafendschungel“. Das Seminar soll vielmehr den Teilnehmern anhand von Beispielen aus der Praxis die wichtigsten Grundkenntnisse für das Arbeitsrecht und Tipps liefern\, wie Sie mit den Arbeitsrechtsvorschriften in Ihrem Unternehmen umgehen können. Es wird deshalb speziell auf die Bedürfnisse von Gründern eingegangen.\nReferent: Dr. Alexander Reif\, WEITNAUER Rechtsanwälte \nAnmeldung: https://events.gruendung.tu-berlin.de/
URL:https://www.zfge.tu-berlin.de/veranstaltung/startup-school-arbeitsrecht-fuer-start-ups-2/
CATEGORIES:CfE
END:VEVENT
END:VCALENDAR