BEGIN:VCALENDAR
VERSION:2.0
PRODID:-//Zentrum für geistiges Eigentum - ECPv4.2.7//NONSGML v1.0//EN
CALSCALE:GREGORIAN
METHOD:PUBLISH
X-WR-CALNAME:Zentrum für geistiges Eigentum
X-ORIGINAL-URL:https://www.zfge.tu-berlin.de
X-WR-CALDESC:Events for Zentrum für geistiges Eigentum
BEGIN:VEVENT
DTSTART;VALUE=DATE:20151005
DTEND;VALUE=DATE:20151005
DTSTAMP:20260422T043415
CREATED:20181224
LAST-MODIFIED:20181224
UID:4997-1444003200-1444089599@www.zfge.tu-berlin.de
SUMMARY:StarTUp Monday mit Leihbar
DESCRIPTION:
URL:https://www.zfge.tu-berlin.de/veranstaltung/startup-monday-mit-leihbar/
CATEGORIES:CfE
END:VEVENT
END:VCALENDAR