BEGIN:VCALENDAR
VERSION:2.0
PRODID:-//Zentrum für geistiges Eigentum - ECPv4.2.7//NONSGML v1.0//EN
CALSCALE:GREGORIAN
METHOD:PUBLISH
X-WR-CALNAME:Zentrum für geistiges Eigentum
X-ORIGINAL-URL:https://www.zfge.tu-berlin.de
X-WR-CALDESC:Events for Zentrum für geistiges Eigentum
BEGIN:VEVENT
DTSTART;TZID=Europe/Berlin:20160201T180000
DTEND;TZID=Europe/Berlin:20160201T210000
DTSTAMP:20260422T100412
CREATED:20181224T192009
LAST-MODIFIED:20181224T192009
UID:4988-1454349600-1454360400@www.zfge.tu-berlin.de
SUMMARY:StarTUp Monday – der beste Montag im Monat
DESCRIPTION:Kommt zu uns in den Incubator zum entspannten Networking mit gründungsinteressierten TU-Studierenden\, -Alumni und Start-ups bei Snacks und Getränken.Taucht ein in das lebendige Gründungsnetzwerk\, werdet Teil davon und findet Gründungspartner und -partnerinnen\, Mitarbeitende und Jobs bei Start-ups.\nMitarbeiter von uns haben ein offens Ohr für eure Fragen.\n\nMehr Infos: http://www.entrepreneurship.tu-berlin.de/menue/start_ups_events/veranstaltungen/startup_monday/
URL:https://www.zfge.tu-berlin.de/veranstaltung/startup-monday-der-beste-montag-im-monat-2/
CATEGORIES:CfE
END:VEVENT
END:VCALENDAR