BEGIN:VCALENDAR
VERSION:2.0
PRODID:-//Zentrum für geistiges Eigentum - ECPv4.2.7//NONSGML v1.0//EN
CALSCALE:GREGORIAN
METHOD:PUBLISH
X-WR-CALNAME:Zentrum für geistiges Eigentum
X-ORIGINAL-URL:https://www.zfge.tu-berlin.de
X-WR-CALDESC:Events for Zentrum für geistiges Eigentum
BEGIN:VEVENT
DTSTART;TZID=Europe/Berlin:20150907T153000
DTEND;TZID=Europe/Berlin:20150907T190000
DTSTAMP:20260423T005758
CREATED:20181224T192010
LAST-MODIFIED:20181224T192010
UID:5002-1441639800-1441652400@www.zfge.tu-berlin.de
SUMMARY:StarTUp Monday
DESCRIPTION:Nach der Sommerpause starten wir wieder mit dem StarTUp Mondaydurch! Am 7.9.2015\, ab 16:30 Uhr an der TU Berlin. Kommt zu uns in den Incubator zum entspanntem Networking mit gründungsinteressierten TU-Studierenden\, -Alumni und -Start-ups bei Snacks und Getränken. Taucht ein in das lebendige Gründungsnetzwerk\, werdet Teil davon und findet Gründungspartner und -partnerinnen\, Mitarbeitende und Jobs bei Start-ups. Teams aus dem Centre for Entrepreneurship pitchen und präsentieren ihre Stellenangebote. Außerdem habt ihr über eine "Suche-und-Finde-Wall“ die Möglichkeit\, gezielt Teampartner\, -partnerinnen\, Jobs u.ä. zu suchen und finden.\n\nThema? BUSINESS & BIER | Vortrag von Felix über FUNKTIONALES BIER \n\nWeitere Informationen und Anmeldung: http://www.entrepreneurship.tu-berlin.de/index.php?id=155358
URL:https://www.zfge.tu-berlin.de/veranstaltung/startup-monday-8/
CATEGORIES:CfE
END:VEVENT
END:VCALENDAR