BEGIN:VCALENDAR
VERSION:2.0
PRODID:-//Zentrum für geistiges Eigentum - ECPv4.2.7//NONSGML v1.0//EN
CALSCALE:GREGORIAN
METHOD:PUBLISH
X-WR-CALNAME:Zentrum für geistiges Eigentum
X-ORIGINAL-URL:https://www.zfge.tu-berlin.de
X-WR-CALDESC:Events for Zentrum für geistiges Eigentum
BEGIN:VEVENT
DTSTART;TZID=Europe/Berlin:20151207T180000
DTEND;TZID=Europe/Berlin:20151207T203000
DTSTAMP:20260422T025036
CREATED:20181224T192009
LAST-MODIFIED:20181224T192009
UID:4991-1449511200-1449520200@www.zfge.tu-berlin.de
SUMMARY:StarTUp Monday
DESCRIPTION:Kommt vorbei zum entspannten Networking mit gründungsinteressierten TU-Studierenden\, Alumnsi und Start-ups bei Snacks und Getränken.\n\nTaucht ein in das lebendige Gründungsnetzwerk\, werdet Teil davon und findet\nGründungspartner und -partnerinnen\, Mitarbeitende und Jobs bei Start-ups.\n\nDieses Mal zu Gast:\n"Shopboostr" zum Thema "Technologien für die Zukunft des Ecommerce"\n\nhttp://www.entrepreneurship.tu-berlin.de/menue/start-ups_events/veranstaltungen/startup_monday/
URL:https://www.zfge.tu-berlin.de/veranstaltung/startup-monday-6/
CATEGORIES:CfE
END:VEVENT
END:VCALENDAR