BEGIN:VCALENDAR
VERSION:2.0
PRODID:-//Zentrum für geistiges Eigentum - ECPv4.2.7//NONSGML v1.0//EN
CALSCALE:GREGORIAN
METHOD:PUBLISH
X-WR-CALNAME:Zentrum für geistiges Eigentum
X-ORIGINAL-URL:https://www.zfge.tu-berlin.de
X-WR-CALDESC:Events for Zentrum für geistiges Eigentum
BEGIN:VEVENT
DTSTART;VALUE=DATE:20151117
DTEND;VALUE=DATE:20151117
DTSTAMP:20260423T233639
CREATED:20181224
LAST-MODIFIED:20181224
UID:4999-1447718400-1447804799@www.zfge.tu-berlin.de
SUMMARY:StarTUp Day
DESCRIPTION:Der StarTUp Day des Centre for Entrepreneurship ist ein Informationstag zum Thema Unternehmensgründung an der TU Berlin. Tagsüber findet im StarTUp Incubator ein umfangreiches Praxisprogramm mit Workshops\, Vorträgen und kostenloser Beratung beispielsweise zu den Themen Businessplan\, Projektmanagement\, PR-Arbeit\, Design Thinking\, Prototyping und Finanzierung von Start-ups statt. Die Teilnehmer erhalten einen Einblick in das Handwerkszeug der Unternehmensgründung und lernen die Trends der Start-up Szene kennen. Beim abendlichen „Inspiration Talk“ inspirieren ausgewählte Start-up-Größen Gründungsinteressierte und - Begeisterte\, stellen ihre Entstehungsgeschichte vor und diskutieren brisante Fragen rund um das Start-up Geschehen. Im Anschluss gibt es bei einem Get-together die Möglichkeit\, in lockerer Atmosphäre mit TU Start-ups ins Gespräch zu kommen.
URL:https://www.zfge.tu-berlin.de/veranstaltung/startup-day-2/
CATEGORIES:CfE
END:VEVENT
END:VCALENDAR