BEGIN:VCALENDAR
VERSION:2.0
PRODID:-//Zentrum für geistiges Eigentum - ECPv4.2.7//NONSGML v1.0//EN
CALSCALE:GREGORIAN
METHOD:PUBLISH
X-WR-CALNAME:Zentrum für geistiges Eigentum
X-ORIGINAL-URL:https://www.zfge.tu-berlin.de
X-WR-CALDESC:Events for Zentrum für geistiges Eigentum
BEGIN:VEVENT
DTSTART;TZID=Europe/Berlin:20150326T090000
DTEND;TZID=Europe/Berlin:20150326T154500
DTSTAMP:20260420T060958
CREATED:20181224T192016
LAST-MODIFIED:20181224T192016
UID:5046-1427360400-1427384700@www.zfge.tu-berlin.de
SUMMARY:StartTUp School: Teamcoaching - Das ABC effektiver Arbeit in Gründungsteams
DESCRIPTION:StartTUp School: Teamcoaching - Das ABC effektiver Arbeit in Gründungsteams\n\nWeitere Informationen: http://www.entrepreneurship.tu-berlin.de/menue/masterprogramme_qualifizierung/workshops/startup_school/
URL:https://www.zfge.tu-berlin.de/veranstaltung/starttup-school-teamcoaching-das-abc-effektiver-arbeit-in-gruendungsteams/
CATEGORIES:CfE
END:VEVENT
END:VCALENDAR