BEGIN:VCALENDAR
VERSION:2.0
PRODID:-//Zentrum für geistiges Eigentum - ECPv4.2.7//NONSGML v1.0//EN
CALSCALE:GREGORIAN
METHOD:PUBLISH
X-WR-CALNAME:Zentrum für geistiges Eigentum
X-ORIGINAL-URL:https://www.zfge.tu-berlin.de
X-WR-CALDESC:Events for Zentrum für geistiges Eigentum
BEGIN:VEVENT
DTSTART;TZID=Europe/Berlin:20190215T093000
DTEND;TZID=Europe/Berlin:20190215T143000
DTSTAMP:20260420T081120
CREATED:20181121T192352
LAST-MODIFIED:20181121T192352
UID:4731-1550223000-1550241000@www.zfge.tu-berlin.de
SUMMARY:Schutzrecht - Im Spannungsfeld zwischen Patent und Publikation
DESCRIPTION:Workshopreihe Technologietransfer an der TU Berlin
URL:https://www.zfge.tu-berlin.de/veranstaltung/schutzrecht-im-spannungsfeld-zwischen-patent-und-publikation/
CATEGORIES:CfE
END:VEVENT
END:VCALENDAR