BEGIN:VCALENDAR
VERSION:2.0
PRODID:-//Zentrum für geistiges Eigentum - ECPv4.2.7//NONSGML v1.0//EN
CALSCALE:GREGORIAN
METHOD:PUBLISH
X-WR-CALNAME:Zentrum für geistiges Eigentum
X-ORIGINAL-URL:https://www.zfge.tu-berlin.de
X-WR-CALDESC:Events for Zentrum für geistiges Eigentum
BEGIN:VEVENT
DTSTART;TZID=Europe/Berlin:20170206T161500
DTEND;TZID=Europe/Berlin:20170206T174500
DTSTAMP:20260423T141117
CREATED:20181224T192002
LAST-MODIFIED:20181224T192002
UID:4926-1486397700-1486403100@www.zfge.tu-berlin.de
SUMMARY:Ringvorlesung Business Model Canvas: Controlling/Buchführung/Steuern
DESCRIPTION:Mehr Informationen: http://www.entrepreneurship.tu-berlin.de/menue/masterprogramme_qualifizierung/courses/ringvorlesung_business_model_canvas/
URL:https://www.zfge.tu-berlin.de/veranstaltung/ringvorlesung-business-model-canvas-controlling-buchfuehrung-steuern/
CATEGORIES:CfE
END:VEVENT
END:VCALENDAR