BEGIN:VCALENDAR
VERSION:2.0
PRODID:-//Zentrum für geistiges Eigentum - ECPv4.2.7//NONSGML v1.0//EN
CALSCALE:GREGORIAN
METHOD:PUBLISH
X-WR-CALNAME:Zentrum für geistiges Eigentum
X-ORIGINAL-URL:https://www.zfge.tu-berlin.de
X-WR-CALDESC:Events for Zentrum für geistiges Eigentum
BEGIN:VEVENT
DTSTART;TZID=Europe/Berlin:20190615T170000
DTEND;TZID=Europe/Berlin:20190615T170000
DTSTAMP:20260419T125532
CREATED:20190604T152224
LAST-MODIFIED:20190604T163219
UID:5816-1560618000-1560618000@www.zfge.tu-berlin.de
SUMMARY:Lange Nacht der Wissenschaften
DESCRIPTION:Strickende Roboter\, das Hochtemperatur-Kristallzüchtungslabor und der große Science Slam im Audimax: Die TU Berlin zeigt zur Langen Nacht der Wissenschaften am Samstag\, dem 15. Juni 2019 rund 240 Projekte aus Forschung und Technik. Zwischen 17.00 und 0.00 Uhr stehen auf dem Campus Charlottenburg\, in Dahlem sowie in Mitte und im Wedding 27 Wissenschaftshäuser und Veranstaltungsorte offen.\n\nSelbstverständlich ist auch das ZfgE im Lichthof vertreten und stellt die neusten Erfindungen der TU Berlin vor. Schauen Sie vorbei und informieren Sie sich über unsere Technologieangebote\, Patenierung von Erfindungen und die Möglichkeiten der Zusammenarbeit! Wir freuen uns auf Ihren Besuch.
URL:https://www.zfge.tu-berlin.de/veranstaltung/lange-nacht-der-wissenschaften/
LOCATION:Straße des 17. Juni 135\, Berlin\, 10623
CATEGORIES:ZfgE
ATTACH;FMTTYPE=image/jpeg:https://www.zfge.tu-berlin.de/files/logo_n8.jpg
END:VEVENT
END:VCALENDAR