BEGIN:VCALENDAR
VERSION:2.0
PRODID:-//Zentrum für geistiges Eigentum - ECPv4.2.7//NONSGML v1.0//EN
CALSCALE:GREGORIAN
METHOD:PUBLISH
X-WR-CALNAME:Zentrum für geistiges Eigentum
X-ORIGINAL-URL:https://www.zfge.tu-berlin.de
X-WR-CALDESC:Events for Zentrum für geistiges Eigentum
BEGIN:VEVENT
DTSTART;TZID=Europe/Berlin:20151208T120000
DTEND;TZID=Europe/Berlin:20151208T140000
DTSTAMP:20260422T043436
CREATED:20181224T192009
LAST-MODIFIED:20181224T192009
UID:4993-1449576000-1449583200@www.zfge.tu-berlin.de
SUMMARY:Investorensprechstunde mit Jonathan Becker von  e.ventures
DESCRIPTION:Wir haben für Euch die tolle Möglichkeit\, eine Investorensprechstunde mit Jonathan Becker\, Vice President bei e.ventures\, anbieten zu können. Innerhalb von 20 Min. habt Ihr die Gelegenheit\, einen ersten Kontakt zu erhalten und vor allem die Sicht des Investors auf die SkalierbarkeitEures Geschäftsmodells zu erfragen. Die Nutzung der Sprechstunde ist für Euch kostenlos. Alle Teams der VALIDIERUNGSPHASE können die Sprechstunde fürden Investoren-Check nutzen! Bitte meldet Euch verbindlich über Doodle bisMontag\, den 30. November 2015 an.\n\nhttp://doodle.com/poll/vmgpvzutthu9zvms
URL:https://www.zfge.tu-berlin.de/veranstaltung/investorensprechstunde-mit-jonathan-becker-von-e-ventures/
CATEGORIES:CfE
END:VEVENT
END:VCALENDAR