BEGIN:VCALENDAR
VERSION:2.0
PRODID:-//Zentrum für geistiges Eigentum - ECPv4.2.7//NONSGML v1.0//EN
CALSCALE:GREGORIAN
METHOD:PUBLISH
X-WR-CALNAME:Zentrum für geistiges Eigentum
X-ORIGINAL-URL:https://www.zfge.tu-berlin.de
X-WR-CALDESC:Events for Zentrum für geistiges Eigentum
BEGIN:VEVENT
DTSTART;TZID=Europe/Berlin:20151202T140000
DTEND;TZID=Europe/Berlin:20151202T160000
DTSTAMP:20260424T064905
CREATED:20181224T192010
LAST-MODIFIED:20181224T192010
UID:4994-1449064800-1449072000@www.zfge.tu-berlin.de
SUMMARY:Investorensprechstunde mit Ansgar Kirchheim vom High-Tech Gründerfonds
DESCRIPTION:Wir haben für Euch die tolle Möglichkeit\, eine Investorensprechstunde mit Dr. Ansgar Kirchheim\, Investment Manager High-Tech Gründerfonds\, anbieten zu können. Innerhalb von 20 Min. habt Ihr die Gelegenheit\, einen ersten Kontakt zu erhalten und vor allem die Sicht des Investors auf die Skalierbarkeit Eures Geschäftsmodells zu erfragen. Die Nutzung der Sprechstunde ist für Euch kostenlos. Alle Teams der VALIDIERUNGSPHASE können dieSprechstunde für den Investoren-Check nutzen! Bitte meldet Euch verbindlich über Doodle bis Mittwoch\, den 25. November 2015 an.\n\nhttp://doodle.com/poll/agaxb8pybmmheatc
URL:https://www.zfge.tu-berlin.de/veranstaltung/investorensprechstunde-mit-ansgar-kirchheim-vom-high-tech-gruenderfonds/
CATEGORIES:CfE
END:VEVENT
END:VCALENDAR