BEGIN:VCALENDAR
VERSION:2.0
PRODID:-//Zentrum für geistiges Eigentum - ECPv4.2.7//NONSGML v1.0//EN
CALSCALE:GREGORIAN
METHOD:PUBLISH
X-WR-CALNAME:Zentrum für geistiges Eigentum
X-ORIGINAL-URL:https://www.zfge.tu-berlin.de
X-WR-CALDESC:Events for Zentrum für geistiges Eigentum
BEGIN:VEVENT
DTSTART;TZID=Europe/Berlin:20151008T080000
DTEND;TZID=Europe/Berlin:20151008T110000
DTSTAMP:20260422T043516
CREATED:20181224T192013
LAST-MODIFIED:20181224T192013
UID:5017-1444291200-1444302000@www.zfge.tu-berlin.de
SUMMARY:GmbH-Gründung – rechtliche Beziehungen zwischen GmbH und Gründern/innen
DESCRIPTION:
URL:https://www.zfge.tu-berlin.de/veranstaltung/gmbh-gruendung-rechtliche-beziehungen-zwischen-gmbh-und-gruendern-innen/
CATEGORIES:CfE
END:VEVENT
END:VCALENDAR