BEGIN:VCALENDAR
VERSION:2.0
PRODID:-//Zentrum für geistiges Eigentum - ECPv4.2.7//NONSGML v1.0//EN
CALSCALE:GREGORIAN
METHOD:PUBLISH
X-WR-CALNAME:Zentrum für geistiges Eigentum
X-ORIGINAL-URL:https://www.zfge.tu-berlin.de
X-WR-CALDESC:Events for Zentrum für geistiges Eigentum
BEGIN:VEVENT
DTSTART;TZID=Europe/Berlin:20151112T090000
DTEND;TZID=Europe/Berlin:20151112T160000
DTSTAMP:20260423T214932
CREATED:20181224T192013
LAST-MODIFIED:20181224T192013
UID:5018-1447318800-1447344000@www.zfge.tu-berlin.de
SUMMARY:Erste Schritte in die Selbstständigkeit
DESCRIPTION:
URL:https://www.zfge.tu-berlin.de/veranstaltung/erste-schritte-in-die-selbststaendigkeit/
CATEGORIES:CfE
END:VEVENT
END:VCALENDAR