BEGIN:VCALENDAR
VERSION:2.0
PRODID:-//Zentrum für geistiges Eigentum - ECPv4.2.7//NONSGML v1.0//EN
CALSCALE:GREGORIAN
METHOD:PUBLISH
X-WR-CALNAME:Zentrum für geistiges Eigentum
X-ORIGINAL-URL:https://www.zfge.tu-berlin.de
X-WR-CALDESC:Events for Zentrum für geistiges Eigentum
BEGIN:VEVENT
DTSTART;TZID=Europe/Berlin:20151202T173000
DTEND;TZID=Europe/Berlin:20151202T230000
DTSTAMP:20260421T231017
CREATED:20181224T192009
LAST-MODIFIED:20181224T192009
UID:4990-1449077400-1449097200@www.zfge.tu-berlin.de
SUMMARY:Alumni Angel Abend
DESCRIPTION:Das Ziel des Alumi.Angel.Abend ist es\, den Austausch zwischenBusiness Angel\, Alumni\, Mentoren und jungen Start-ups weiter zu fördern.Mit dieser Kooperation wird das Gründungsnetzwerk belebt und die Gründerhauptstadt nachhaltig gestärkt. Werden auch Sie Teil des Netzwerks.
URL:https://www.zfge.tu-berlin.de/veranstaltung/alumni-angel-abend/
CATEGORIES:CfE
END:VEVENT
END:VCALENDAR