BEGIN:VCALENDAR
VERSION:2.0
PRODID:-//Zentrum für geistiges Eigentum - ECPv4.2.7//NONSGML v1.0//EN
CALSCALE:GREGORIAN
METHOD:PUBLISH
X-WR-CALNAME:Zentrum für geistiges Eigentum
X-ORIGINAL-URL:https://www.zfge.tu-berlin.de
X-WR-CALDESC:Events for Zentrum für geistiges Eigentum
BEGIN:VEVENT
DTSTART;TZID=Europe/Berlin:20160104T161500
DTEND;TZID=Europe/Berlin:20160104T174500
DTSTAMP:20260422T082303
CREATED:20181224T192009
LAST-MODIFIED:20181224T192009
UID:4986-1451924100-1451929500@www.zfge.tu-berlin.de
SUMMARY:9. Ringvorlesung "Entrepreneurship - Von der Idee zum Markt"
DESCRIPTION:Die Ringvorlesung "Entrepreneurship - Von der Idee zum Markt" findet im Wintersemester 2015/2016 statt.\n\nDie Schirmherrschaft übernimmtder Dekan der Fakultät II Mathematik und Naturwissenschaften\, Prof. Dr. Michael Gradzielski.\n\nJeder Studierende\, egal in welchem Semester oder Studienfach\, kann an der Ringvorlesung teilnehmen. Nach der erfolgreichen Teilnahme an der Veranstaltung (2 SWS) erhalten Sie 3 Leistungspunkte.\n\nSielernen\, wie aus einer Idee ein Produkt oder eine Dienstleistung wird und wie diese sich am Markt behaupten können. In Gruppen werden Geschäftsmodelle nach dem Business Model Canvas (BMC) nach A. Osterwalder entwickelt. Prüfungsbestandteile (08.02.2016):\n\n- Posterpräsentation der in Gruppen entwickelten BMC \n- Abgabe der schriftlichen Ausarbeitung des Canvas \n\nInfos:http://www.entrepreneurship.tu-berlin.de/menue/masterprogramme_qualifizierung/courses/ringvorlesung_entrepreneurship/
URL:https://www.zfge.tu-berlin.de/veranstaltung/9-ringvorlesung-entrepreneurship-von-der-idee-zum-markt/
CATEGORIES:CfE
END:VEVENT
END:VCALENDAR