BEGIN:VCALENDAR
VERSION:2.0
PRODID:-//Zentrum für geistiges Eigentum - ECPv4.2.7//NONSGML v1.0//EN
CALSCALE:GREGORIAN
METHOD:PUBLISH
X-WR-CALNAME:Zentrum für geistiges Eigentum
X-ORIGINAL-URL:https://www.zfge.tu-berlin.de
X-WR-CALDESC:Events for Zentrum für geistiges Eigentum
BEGIN:VEVENT
DTSTART;TZID=Europe/Berlin:20160428T170000
DTEND;TZID=Europe/Berlin:20160428T210000
DTSTAMP:20260424T002042
CREATED:20181224T192006
LAST-MODIFIED:20181224T192006
UID:4963-1461862800-1461877200@www.zfge.tu-berlin.de
SUMMARY:11. Investor‘s Dinner
DESCRIPTION:Am 28. April 2016 lädt das startup.net wieder 24 Startups zum Matchmaking Dinner mit zwölf führenden Investoren ein. Ziel ist die unkomplizierte Vermittlung von Frühphasenfinanzierung für technologieorientierte deutsche Startups. Das 11. INVESTORS' DINNER 2016 richtet sich an innovativeStartups u.a. aus der Internet-\, Mobile-\, Games-\, Medienbranche mit hohem Wachstumspotential\, die Risikokapital suchen. Die TUB / CfE ist über das EIT Digital Partner des Events und ist in der Auswahljury vertreten. Bewerbungsschluss: 28.3.2016\nWeitere Informationen und Bewerbung: http://www.medianet-bb.de/DE/id361aid4200o0_kalender.html
URL:https://www.zfge.tu-berlin.de/veranstaltung/11-investors-dinner/
CATEGORIES:CfE
END:VEVENT
END:VCALENDAR